BEGIN:VCALENDAR
VERSION:2.0
PRODID:-//pretix//HTU_Booking//
BEGIN:VTIMEZONE
TZID:Europe/Vienna
BEGIN:STANDARD
DTSTART:20001029T040000
RRULE:FREQ=YEARLY;BYDAY=-1SU;BYMONTH=10
TZNAME:CET
TZOFFSETFROM:+0200
TZOFFSETTO:+0100
END:STANDARD
BEGIN:DAYLIGHT
DTSTART:20000326T030000
RRULE:FREQ=YEARLY;BYDAY=-1SU;BYMONTH=3
TZNAME:CEST
TZOFFSETFROM:+0100
TZOFFSETTO:+0200
END:DAYLIGHT
END:VTIMEZONE
BEGIN:VEVENT
UID:pretix-htu-Dart-329@booking.htu.at
DTSTART;TZID=Europe/Vienna:20260115T160000
DTEND;TZID=Europe/Vienna:20260115T220000
DESCRIPTION:Tickets: https://booking.htu.at/Dart/329/\nEinlass: 15.01.2026 
 16:00\nVeranstalter: HTU Wien
DTSTAMP:20260421T121942Z
LOCATION:Altes GZ\, Freihaus DCEGD03\, TU Wien
SUMMARY:Dart Turnier Jänner 2026
END:VEVENT
END:VCALENDAR
