BEGIN:VCALENDAR
VERSION:2.0
PRODID:-//pretix//HTU_Booking//
BEGIN:VTIMEZONE
TZID:Europe/Vienna
BEGIN:STANDARD
DTSTART:20001029T040000
RRULE:FREQ=YEARLY;BYDAY=-1SU;BYMONTH=10
TZNAME:CET
TZOFFSETFROM:+0200
TZOFFSETTO:+0100
END:STANDARD
BEGIN:DAYLIGHT
DTSTART:20000326T030000
RRULE:FREQ=YEARLY;BYDAY=-1SU;BYMONTH=3
TZNAME:CEST
TZOFFSETFROM:+0100
TZOFFSETTO:+0200
END:DAYLIGHT
END:VTIMEZONE
BEGIN:VEVENT
UID:pretix-htu-pilates-347@booking.htu.at
DTSTART;TZID=Europe/Vienna:20260317T180000
DTEND;TZID=Europe/Vienna:20260317T193000
DESCRIPTION:Tickets: https://booking.htu.at/pilates/347/\nOrganizer: HTU Wi
 en
DTSTAMP:20260421T084450Z
LOCATION:Seminarraum AC 02 – 1 – UIW (AC0246)\, TU Wien
SUMMARY:HTU Pilates
END:VEVENT
END:VCALENDAR
